BEGIN:VCALENDAR
VERSION:2.0
PRODID:-//350 Contra Costa Action - ECPv6.15.20//NONSGML v1.0//EN
CALSCALE:GREGORIAN
METHOD:PUBLISH
X-WR-CALNAME:350 Contra Costa Action
X-ORIGINAL-URL:https://350contracostaaction.org
X-WR-CALDESC:Events for 350 Contra Costa Action
REFRESH-INTERVAL;VALUE=DURATION:PT1H
X-Robots-Tag:noindex
X-PUBLISHED-TTL:PT1H
BEGIN:VTIMEZONE
TZID:America/Los_Angeles
BEGIN:DAYLIGHT
TZOFFSETFROM:-0800
TZOFFSETTO:-0700
TZNAME:PDT
DTSTART:20230312T100000
END:DAYLIGHT
BEGIN:STANDARD
TZOFFSETFROM:-0700
TZOFFSETTO:-0800
TZNAME:PST
DTSTART:20231105T090000
END:STANDARD
BEGIN:DAYLIGHT
TZOFFSETFROM:-0800
TZOFFSETTO:-0700
TZNAME:PDT
DTSTART:20240310T100000
END:DAYLIGHT
BEGIN:STANDARD
TZOFFSETFROM:-0700
TZOFFSETTO:-0800
TZNAME:PST
DTSTART:20241103T090000
END:STANDARD
BEGIN:DAYLIGHT
TZOFFSETFROM:-0800
TZOFFSETTO:-0700
TZNAME:PDT
DTSTART:20250309T100000
END:DAYLIGHT
BEGIN:STANDARD
TZOFFSETFROM:-0700
TZOFFSETTO:-0800
TZNAME:PST
DTSTART:20251102T090000
END:STANDARD
BEGIN:DAYLIGHT
TZOFFSETFROM:-0800
TZOFFSETTO:-0700
TZNAME:PDT
DTSTART:20260308T100000
END:DAYLIGHT
BEGIN:STANDARD
TZOFFSETFROM:-0700
TZOFFSETTO:-0800
TZNAME:PST
DTSTART:20261101T090000
END:STANDARD
END:VTIMEZONE
BEGIN:VEVENT
DTSTART;TZID=America/Los_Angeles:20250419T110000
DTEND;TZID=America/Los_Angeles:20250419T140000
DTSTAMP:20260419T152643
CREATED:20250411T004004Z
LAST-MODIFIED:20250411T004416Z
UID:10001347-1745060400-1745071200@350contracostaaction.org
SUMMARY:Walnut Creek Earth Month Celebration April 19th
DESCRIPTION:Sustainability in Motion!\nThis April\, accelerate your journey toward a greener future with dynamic\, interactive workshops that showcase innovative sustainable practices\, strengthen community ties\, and boost personal well-being. Experience how forward movement transforms ideas into action—culminating in a vibrant celebration at Civic Park on April 19th. \n\nLive Performances\nInteractive Demos\nExplore Over 30 Booths\nKids Zone\nFood Trucks\n\nWe’ll be there! Stop by our booth for fun activities with the kids\, chat with us\, and ask questions! \nNot in Walnut Creek? Celebrate Earth Day and Earth Month with us at events around Contra Costa County and beyond!
URL:https://350contracostaaction.org/event/walnut-creek-earth-month-celebration-april-19th/
LOCATION:Walnut Creek Civic Park\, 1375 Civic Dr\, Walnut Creek\, CA\, 94596-4227\, United States
CATEGORIES:Upcoming Events
ATTACH;FMTTYPE=image/png:https://350contracostaaction.org/wp-content/uploads/2025/04/WalnutCreek_EarthMonth2025_Site-Banner-16_9-2.png
END:VEVENT
BEGIN:VEVENT
DTSTART;TZID=America/Los_Angeles:20241026T140000
DTEND;TZID=America/Los_Angeles:20241026T170000
DTSTAMP:20260419T152643
CREATED:20241014T015312Z
LAST-MODIFIED:20241014T015312Z
UID:10001215-1729951200-1729962000@350contracostaaction.org
SUMMARY:Walnut Creek Climate March and Rally
DESCRIPTION:Get ready for a vibrant march and celebration to help raise awareness and visibility for climate action in Walnut Creek on Saturday\, October 26. \nMarchers will pause at the intersection of Mt. Diablo Boulevard and North Main Street for 5-10 minutes\, occupying all four corners. During the pause we will celebrate our solidarity and our commitment to addressing climate change with music\, chants\, loads of energy\, and hoisting our banners and signs. \nLearn more\, volunteer to help\, and RSVP at Sustainable Walnut Creek. \nJoin us at the Walnut Creek Climate March and Rally October 26th.
URL:https://350contracostaaction.org/event/walnut-creek-climate-march-and-rally/
LOCATION:Walnut Creek Civic Park\, 1375 Civic Dr\, Walnut Creek\, CA\, 94596-4227\, United States
CATEGORIES:Upcoming Events
ATTACH;FMTTYPE=image/jpeg:https://350contracostaaction.org/wp-content/uploads/2024/10/CLIMATE-MARCH-FLYER-.jpg
END:VEVENT
END:VCALENDAR