BEGIN:VCALENDAR
VERSION:2.0
PRODID:-//350 Contra Costa Action - ECPv6.15.20//NONSGML v1.0//EN
CALSCALE:GREGORIAN
METHOD:PUBLISH
X-ORIGINAL-URL:https://350contracostaaction.org
X-WR-CALDESC:Events for 350 Contra Costa Action
REFRESH-INTERVAL;VALUE=DURATION:PT1H
X-Robots-Tag:noindex
X-PUBLISHED-TTL:PT1H
BEGIN:VTIMEZONE
TZID:America/Los_Angeles
BEGIN:DAYLIGHT
TZOFFSETFROM:-0800
TZOFFSETTO:-0700
TZNAME:PDT
DTSTART:20240310T100000
END:DAYLIGHT
BEGIN:STANDARD
TZOFFSETFROM:-0700
TZOFFSETTO:-0800
TZNAME:PST
DTSTART:20241103T090000
END:STANDARD
BEGIN:DAYLIGHT
TZOFFSETFROM:-0800
TZOFFSETTO:-0700
TZNAME:PDT
DTSTART:20250309T100000
END:DAYLIGHT
BEGIN:STANDARD
TZOFFSETFROM:-0700
TZOFFSETTO:-0800
TZNAME:PST
DTSTART:20251102T090000
END:STANDARD
BEGIN:DAYLIGHT
TZOFFSETFROM:-0800
TZOFFSETTO:-0700
TZNAME:PDT
DTSTART:20260308T100000
END:DAYLIGHT
BEGIN:STANDARD
TZOFFSETFROM:-0700
TZOFFSETTO:-0800
TZNAME:PST
DTSTART:20261101T090000
END:STANDARD
END:VTIMEZONE
BEGIN:VEVENT
DTSTART;TZID=America/Los_Angeles:20250527T170000
DTEND;TZID=America/Los_Angeles:20250527T190000
DTSTAMP:20260421T014628
CREATED:20250513T215310Z
LAST-MODIFIED:20250608T180403Z
UID:10001558-1748365200-1748372400@350contracostaaction.org
SUMMARY:Mobilize to Make Polluters Pay on May 27
DESCRIPTION:California is poised to finally hold polluters accountable for the billions of dollars of damages and harms they have caused for decades. Join a broad coalition of organizers\, activists\, and citizens ready to make polluters pay on May 27th at the Capitol—in a history-making and inspiring rally. \nRSVP here and the organizers will share more details soon. Please help spread the word!
URL:https://350contracostaaction.org/event/mobilize-to-make-polluters-pay-on-may-27/
LOCATION:California Capitol—West Steps\, 1315 10th St\, Sacramento\, Sacramento\, CA\, 95814\, United States
CATEGORIES:Upcoming Events
ATTACH;FMTTYPE=image/png:https://350contracostaaction.org/wp-content/uploads/2025/05/May_27_Superfund_Mobilization.png
ORGANIZER;CN="Oil and Gas Action Network (OGAN)":MAILTO:info@oilgasaction.org
END:VEVENT
END:VCALENDAR