BEGIN:VCALENDAR
VERSION:2.0
PRODID:-//350 Contra Costa Action - ECPv6.15.20//NONSGML v1.0//EN
CALSCALE:GREGORIAN
METHOD:PUBLISH
X-WR-CALNAME:350 Contra Costa Action
X-ORIGINAL-URL:https://350contracostaaction.org
X-WR-CALDESC:Events for 350 Contra Costa Action
REFRESH-INTERVAL;VALUE=DURATION:PT1H
X-Robots-Tag:noindex
X-PUBLISHED-TTL:PT1H
BEGIN:VTIMEZONE
TZID:America/Los_Angeles
BEGIN:DAYLIGHT
TZOFFSETFROM:-0800
TZOFFSETTO:-0700
TZNAME:PDT
DTSTART:20240310T100000
END:DAYLIGHT
BEGIN:STANDARD
TZOFFSETFROM:-0700
TZOFFSETTO:-0800
TZNAME:PST
DTSTART:20241103T090000
END:STANDARD
BEGIN:DAYLIGHT
TZOFFSETFROM:-0800
TZOFFSETTO:-0700
TZNAME:PDT
DTSTART:20250309T100000
END:DAYLIGHT
BEGIN:STANDARD
TZOFFSETFROM:-0700
TZOFFSETTO:-0800
TZNAME:PST
DTSTART:20251102T090000
END:STANDARD
BEGIN:DAYLIGHT
TZOFFSETFROM:-0800
TZOFFSETTO:-0700
TZNAME:PDT
DTSTART:20260308T100000
END:DAYLIGHT
BEGIN:STANDARD
TZOFFSETFROM:-0700
TZOFFSETTO:-0800
TZNAME:PST
DTSTART:20261101T090000
END:STANDARD
BEGIN:DAYLIGHT
TZOFFSETFROM:-0800
TZOFFSETTO:-0700
TZNAME:PDT
DTSTART:20270314T100000
END:DAYLIGHT
BEGIN:STANDARD
TZOFFSETFROM:-0700
TZOFFSETTO:-0800
TZNAME:PST
DTSTART:20271107T090000
END:STANDARD
END:VTIMEZONE
BEGIN:VEVENT
DTSTART;TZID=America/Los_Angeles:20260326T133000
DTEND;TZID=America/Los_Angeles:20260326T143000
DTSTAMP:20260420T041957
CREATED:20250504T210050Z
LAST-MODIFIED:20251126T003140Z
UID:10002575-1774531800-1774535400@350contracostaaction.org
SUMMARY:Legislative Team Meeting
DESCRIPTION:The Legislative Team focuses on the Sacramento lawmakers who represent Contra Costa residents. We cultivate strong relationships with these state senators and assembly members so we can influence their votes on important legislation. And we get the word out to our fellow constituents when letters and phone calls are needed to convince lawmakers to vote the right way. \nWe meet on the fourth Thursday of the month to discuss the progress of California state bills that significantly impact Contra Costa County’s transition to a fossil-free\, environmentally just future. We recommend actions for 350 Contra Costa Action members and others  to gain legislators’ support for our positions. Everyone is welcome to attend our meetings. For newbies\, the meetings are a way to learn about the legislative process and our environmental policies. Contact the team leader for more information and the zoom link to the next meeting. \n 
URL:https://350contracostaaction.org/event/legislative-team-meeting-2/2026-03-26/
LOCATION:Zoom Meeting
CATEGORIES:Action Team Meetings
ATTACH;FMTTYPE=image/jpeg:https://350contracostaaction.org/wp-content/uploads/2023/02/LegTeamMainImageRBKMeetingImage14-Hdr_WebAdj.jpg
ORGANIZER;CN="Legislative Team Leader--Illana":MAILTO:info@350contracostaaction.org
END:VEVENT
BEGIN:VEVENT
DTSTART;TZID=America/Los_Angeles:20260226T133000
DTEND;TZID=America/Los_Angeles:20260226T143000
DTSTAMP:20260420T041957
CREATED:20250504T210050Z
LAST-MODIFIED:20251126T003140Z
UID:10002574-1772112600-1772116200@350contracostaaction.org
SUMMARY:Legislative Team Meeting
DESCRIPTION:The Legislative Team focuses on the Sacramento lawmakers who represent Contra Costa residents. We cultivate strong relationships with these state senators and assembly members so we can influence their votes on important legislation. And we get the word out to our fellow constituents when letters and phone calls are needed to convince lawmakers to vote the right way. \nWe meet on the fourth Thursday of the month to discuss the progress of California state bills that significantly impact Contra Costa County’s transition to a fossil-free\, environmentally just future. We recommend actions for 350 Contra Costa Action members and others  to gain legislators’ support for our positions. Everyone is welcome to attend our meetings. For newbies\, the meetings are a way to learn about the legislative process and our environmental policies. Contact the team leader for more information and the zoom link to the next meeting. \n 
URL:https://350contracostaaction.org/event/legislative-team-meeting-2/2026-02-26/
LOCATION:Zoom Meeting
CATEGORIES:Action Team Meetings
ATTACH;FMTTYPE=image/jpeg:https://350contracostaaction.org/wp-content/uploads/2023/02/LegTeamMainImageRBKMeetingImage14-Hdr_WebAdj.jpg
ORGANIZER;CN="Legislative Team Leader--Illana":MAILTO:info@350contracostaaction.org
END:VEVENT
BEGIN:VEVENT
DTSTART;TZID=America/Los_Angeles:20260122T133000
DTEND;TZID=America/Los_Angeles:20260122T143000
DTSTAMP:20260420T041957
CREATED:20250504T210050Z
LAST-MODIFIED:20251126T003140Z
UID:10002725-1769088600-1769092200@350contracostaaction.org
SUMMARY:Legislative Team Meeting
DESCRIPTION:The Legislative Team focuses on the Sacramento lawmakers who represent Contra Costa residents. We cultivate strong relationships with these state senators and assembly members so we can influence their votes on important legislation. And we get the word out to our fellow constituents when letters and phone calls are needed to convince lawmakers to vote the right way. \nWe meet on the fourth Thursday of the month to discuss the progress of California state bills that significantly impact Contra Costa County’s transition to a fossil-free\, environmentally just future. We recommend actions for 350 Contra Costa Action members and others  to gain legislators’ support for our positions. Everyone is welcome to attend our meetings. For newbies\, the meetings are a way to learn about the legislative process and our environmental policies. Contact the team leader for more information and the zoom link to the next meeting. \n 
URL:https://350contracostaaction.org/event/legislative-team-meeting-2/2026-01-22/
LOCATION:Zoom Meeting
CATEGORIES:Action Team Meetings
ATTACH;FMTTYPE=image/jpeg:https://350contracostaaction.org/wp-content/uploads/2023/02/LegTeamMainImageRBKMeetingImage14-Hdr_WebAdj.jpg
ORGANIZER;CN="Legislative Team Leader--Illana":MAILTO:info@350contracostaaction.org
END:VEVENT
BEGIN:VEVENT
DTSTART;TZID=America/Los_Angeles:20251127T133000
DTEND;TZID=America/Los_Angeles:20251127T143000
DTSTAMP:20260420T041957
CREATED:20250504T210050Z
LAST-MODIFIED:20251126T003140Z
UID:10002571-1764250200-1764253800@350contracostaaction.org
SUMMARY:Legislative Team Meeting
DESCRIPTION:The Legislative Team focuses on the Sacramento lawmakers who represent Contra Costa residents. We cultivate strong relationships with these state senators and assembly members so we can influence their votes on important legislation. And we get the word out to our fellow constituents when letters and phone calls are needed to convince lawmakers to vote the right way. \nWe meet on the fourth Thursday of the month to discuss the progress of California state bills that significantly impact Contra Costa County’s transition to a fossil-free\, environmentally just future. We recommend actions for 350 Contra Costa Action members and others  to gain legislators’ support for our positions. Everyone is welcome to attend our meetings. For newbies\, the meetings are a way to learn about the legislative process and our environmental policies. Contact the team leader for more information and the zoom link to the next meeting. \n 
URL:https://350contracostaaction.org/event/legislative-team-meeting-2/2025-11-27/
LOCATION:Zoom Meeting
CATEGORIES:Action Team Meetings
ATTACH;FMTTYPE=image/jpeg:https://350contracostaaction.org/wp-content/uploads/2023/02/LegTeamMainImageRBKMeetingImage14-Hdr_WebAdj.jpg
ORGANIZER;CN="Legislative Team Leader--Illana":MAILTO:info@350contracostaaction.org
END:VEVENT
BEGIN:VEVENT
DTSTART;TZID=America/Los_Angeles:20251023T133000
DTEND;TZID=America/Los_Angeles:20251023T143000
DTSTAMP:20260420T041957
CREATED:20250504T210050Z
LAST-MODIFIED:20251126T003140Z
UID:10002724-1761226200-1761229800@350contracostaaction.org
SUMMARY:Legislative Team Meeting
DESCRIPTION:The Legislative Team focuses on the Sacramento lawmakers who represent Contra Costa residents. We cultivate strong relationships with these state senators and assembly members so we can influence their votes on important legislation. And we get the word out to our fellow constituents when letters and phone calls are needed to convince lawmakers to vote the right way. \nWe meet on the fourth Thursday of the month to discuss the progress of California state bills that significantly impact Contra Costa County’s transition to a fossil-free\, environmentally just future. We recommend actions for 350 Contra Costa Action members and others  to gain legislators’ support for our positions. Everyone is welcome to attend our meetings. For newbies\, the meetings are a way to learn about the legislative process and our environmental policies. Contact the team leader for more information and the zoom link to the next meeting. \n 
URL:https://350contracostaaction.org/event/legislative-team-meeting-2/2025-10-23/
LOCATION:Zoom Meeting
CATEGORIES:Action Team Meetings
ATTACH;FMTTYPE=image/jpeg:https://350contracostaaction.org/wp-content/uploads/2023/02/LegTeamMainImageRBKMeetingImage14-Hdr_WebAdj.jpg
ORGANIZER;CN="Legislative Team Leader--Illana":MAILTO:info@350contracostaaction.org
END:VEVENT
BEGIN:VEVENT
DTSTART;TZID=America/Los_Angeles:20250925T133000
DTEND;TZID=America/Los_Angeles:20250925T143000
DTSTAMP:20260420T041957
CREATED:20250504T210050Z
LAST-MODIFIED:20251126T003140Z
UID:10002567-1758807000-1758810600@350contracostaaction.org
SUMMARY:Legislative Team Meeting
DESCRIPTION:The Legislative Team focuses on the Sacramento lawmakers who represent Contra Costa residents. We cultivate strong relationships with these state senators and assembly members so we can influence their votes on important legislation. And we get the word out to our fellow constituents when letters and phone calls are needed to convince lawmakers to vote the right way. \nWe meet on the fourth Thursday of the month to discuss the progress of California state bills that significantly impact Contra Costa County’s transition to a fossil-free\, environmentally just future. We recommend actions for 350 Contra Costa Action members and others  to gain legislators’ support for our positions. Everyone is welcome to attend our meetings. For newbies\, the meetings are a way to learn about the legislative process and our environmental policies. Contact the team leader for more information and the zoom link to the next meeting. \n 
URL:https://350contracostaaction.org/event/legislative-team-meeting-2/2025-09-25/
LOCATION:Zoom Meeting
CATEGORIES:Action Team Meetings
ATTACH;FMTTYPE=image/jpeg:https://350contracostaaction.org/wp-content/uploads/2023/02/LegTeamMainImageRBKMeetingImage14-Hdr_WebAdj.jpg
ORGANIZER;CN="Legislative Team Leader--Illana":MAILTO:info@350contracostaaction.org
END:VEVENT
BEGIN:VEVENT
DTSTART;TZID=America/Los_Angeles:20250904T133000
DTEND;TZID=America/Los_Angeles:20250904T143000
DTSTAMP:20260420T041957
CREATED:20250827T150354Z
LAST-MODIFIED:20250827T150354Z
UID:10002687-1756992600-1756996200@350contracostaaction.org
SUMMARY:Legislative Team Meeting—Special Meeting
DESCRIPTION:One-Time Change! We’re moving the August meeting ahead a week to September 4 because the last day for bills to be referred from the Appropriations Committees to the floor is Friday\, August 30\, one day after the original August meeting day. When we meet on September 4\, we’ll know which bills are going to be up for a floor vote this year. We’ll have a good starting place for a discussion of which bills need our efforts in support or opposition.  \nThe Legislative Team focuses on the Sacramento lawmakers who represent Contra Costa residents. We cultivate strong relationships with these state senators and assembly members so we can influence their votes on important legislation. And we get the word out to our fellow constituents when letters and phone calls are needed to convince lawmakers to vote the right way. \nWe meet on the last Thursday of the month to discuss the progress of California state bills that significantly impact Contra Costa County’s transition to a fossil-free\, environmentally just future. We recommend actions for 350 Contra Costa Action members and others  to gain legislators’ support for our positions. Everyone is welcome to attend our meetings. For newbies\, the meetings are a way to learn about the legislative process and our environmental policies. Contact the team leader for more information and the zoom link to the next meeting. \n 
URL:https://350contracostaaction.org/event/legislative-team-meeting-special-meeting/
LOCATION:Zoom Meeting
CATEGORIES:Action Team Meetings
ATTACH;FMTTYPE=image/jpeg:https://350contracostaaction.org/wp-content/uploads/2023/02/LegTeamMainImageRBKMeetingImage14-Hdr_WebAdj.jpg
ORGANIZER;CN="Legislative Team Leader--Illana":MAILTO:info@350contracostaaction.org
END:VEVENT
END:VCALENDAR