BEGIN:VCALENDAR
VERSION:2.0
PRODID:-//350 Contra Costa Action - ECPv6.15.20//NONSGML v1.0//EN
CALSCALE:GREGORIAN
METHOD:PUBLISH
X-WR-CALNAME:350 Contra Costa Action
X-ORIGINAL-URL:https://350contracostaaction.org
X-WR-CALDESC:Events for 350 Contra Costa Action
REFRESH-INTERVAL;VALUE=DURATION:PT1H
X-Robots-Tag:noindex
X-PUBLISHED-TTL:PT1H
BEGIN:VTIMEZONE
TZID:America/Los_Angeles
BEGIN:DAYLIGHT
TZOFFSETFROM:-0800
TZOFFSETTO:-0700
TZNAME:PDT
DTSTART:20230312T100000
END:DAYLIGHT
BEGIN:STANDARD
TZOFFSETFROM:-0700
TZOFFSETTO:-0800
TZNAME:PST
DTSTART:20231105T090000
END:STANDARD
BEGIN:DAYLIGHT
TZOFFSETFROM:-0800
TZOFFSETTO:-0700
TZNAME:PDT
DTSTART:20240310T100000
END:DAYLIGHT
BEGIN:STANDARD
TZOFFSETFROM:-0700
TZOFFSETTO:-0800
TZNAME:PST
DTSTART:20241103T090000
END:STANDARD
BEGIN:DAYLIGHT
TZOFFSETFROM:-0800
TZOFFSETTO:-0700
TZNAME:PDT
DTSTART:20250309T100000
END:DAYLIGHT
BEGIN:STANDARD
TZOFFSETFROM:-0700
TZOFFSETTO:-0800
TZNAME:PST
DTSTART:20251102T090000
END:STANDARD
BEGIN:DAYLIGHT
TZOFFSETFROM:-0800
TZOFFSETTO:-0700
TZNAME:PDT
DTSTART:20260308T100000
END:DAYLIGHT
BEGIN:STANDARD
TZOFFSETFROM:-0700
TZOFFSETTO:-0800
TZNAME:PST
DTSTART:20261101T090000
END:STANDARD
END:VTIMEZONE
BEGIN:VEVENT
DTSTART;TZID=America/Los_Angeles:20250926T110000
DTEND;TZID=America/Los_Angeles:20250926T120000
DTSTAMP:20260420T143159
CREATED:20250921T213737Z
LAST-MODIFIED:20250921T213737Z
UID:10002752-1758884400-1758888000@350contracostaaction.org
SUMMARY:Clean Air Week 2025: Decarb Policy Panel
DESCRIPTION:Explore the future of building decarbonization at the Clean Air Week 2025: Decarb Policy Panel. This webinar discussion will delve into the evolving landscape of policies aimed at promoting healthy air and combating climate change\, especially in light of recent legal developments that have reignited momentum in the movement. \nWhat to Expect\n\nPositive Policy Developments: Insights into recent policies that have been successfully passed and upheld in court.\nChallenges Ahead: An examination of the ongoing obstacles the movement faces.\nFuture Predictions: Panelists will share their visions and concerns for policy development over the next 5\, 10\, and 20 years.\nKey Stakeholder Roles: Discussion on how government\, utilities\, advocates\, and industry can either accelerate or hinder progress.\n\nMeet the Panelists\n\nAnne Pernick: Senior Advisor at Stand.earth\, Anne has extensive experience working with local governments to phase out fossil fuels.\nMarnese Jackson: Executive Director of the Midwest Building Decarbonization Coalition\, Marnese is a dedicated advocate for environmental and climate justice.\nEmily Levin: Policy and Program Director for Clean Buildings at NESCAUM\, Emily leads initiatives to support the transition to zero-emission buildings.\nAllison MacMunn: Program Director at Sunstone Strategies\, Allison specializes in strategic communications around clean air and pollution-free buildings.\nCarra Sahler\, J.D.: Director at the Green Energy Institute\, Carra focuses on equitable decarbonization measures and climate policy.\nNancy L. Seidman: Senior Advisor at the Regulatory Assistance Project\, Nancy brings over 35 years of experience in energy and environmental policy.\n\nThis panel promises to provide valuable insights into the future of decarbonization policies and their impact on air quality and climate health. \nRegister Now\nRegister now to secure your spot and be part of the discussion on decarb policymaking. Your voice matters! \n§ \nHome Air Filtration is the second in a series of webinars hosted by Electrify Now during Clean Air Week 2025. For more about Clean Air Week\, see Everything We Burn\, We Breathe: Clean Air Week 2025 Has an App for That. \n\nImage credit: Clean Air Week 2025\, used with permission
URL:https://350contracostaaction.org/event/clean-air-week-2025-decarb-policy-panel/
LOCATION:Zoom Meeting
CATEGORIES:Upcoming Events
ATTACH;FMTTYPE=image/jpeg:https://350contracostaaction.org/wp-content/uploads/2025/09/CleanAirWeek2025Schedule_No5_Decarb.jpg
ORGANIZER;CN="Electrify Now Webinars":MAILTO:joeelectrifynow@substack.com
END:VEVENT
BEGIN:VEVENT
DTSTART;TZID=America/Los_Angeles:20250925T120000
DTEND;TZID=America/Los_Angeles:20250925T120000
DTSTAMP:20260420T143159
CREATED:20250921T193742Z
LAST-MODIFIED:20250921T193742Z
UID:10002751-1758801600-1758801600@350contracostaaction.org
SUMMARY:Clean Air Week 2025: Electrify 101
DESCRIPTION:Transform Your Home for a Cleaner Future\nThinking about ditching fossil fuels in your home—or lessening their impact? Take advantage of Electrify Now’s Clean Air Week 2025: Electrify 101 webinar\, an insightful hour designed to empower you to transform your home into a cleaner\, safer\, and more energy-efficient space. Discover how electrifying your appliances can significantly reduce the harmful effects of fossil fuels\, enhance your comfort\, and lower your energy bills\, all while contributing to a healthier planet. \nWhat You’ll Learn\nWhether you’re a renter or a homeowner\, sustainability and electrification experts will guide you through practical steps to create an electrification plan tailored to your needs\, including: \n\nHow to develop a simple electrification plan\nTips for renters and homeowners\nAvailable rebates and incentives to make the transition more affordable\nHealth benefits of appliance electrification\nEconomic advantages and climate benefits\n\nOur expert panelists\, including Wael Kanj from Rewiring America and Ted Tiffany from the Building Decarbonization Coalition\, will share valuable insights on how electrification contributes to a sustainable future. \nDon’t miss this opportunity to take the first step towards a healthier home environment! \nRegister Now\nRegister now to secure your spot and be part of the discussion on improving indoor air quality. Your voice matters in our community of sustainability enthusiasts! \n§ \nHome Air Filtration is the second in a series of webinars hosted by Electrify Now during Clean Air Week 2025. For more about Clean Air Week\, see Everything We Burn\, We Breathe: Clean Air Week 2025 Has an App for That. \n\nImage credit: Clean Air Week 2025\, used with permission
URL:https://350contracostaaction.org/event/clean-air-week-2025-electrify-101/
LOCATION:Zoom Meeting
CATEGORIES:Upcoming Events
ATTACH;FMTTYPE=image/jpeg:https://350contracostaaction.org/wp-content/uploads/2025/09/CleanAirWeek2025Schedule_No4_Electrify101.jpg
ORGANIZER;CN="Electrify Now Webinars":MAILTO:joeelectrifynow@substack.com
END:VEVENT
BEGIN:VEVENT
DTSTART;TZID=America/Los_Angeles:20250924T100000
DTEND;TZID=America/Los_Angeles:20250924T110000
DTSTAMP:20260420T143159
CREATED:20250921T185150Z
LAST-MODIFIED:20250921T185708Z
UID:10002750-1758708000-1758711600@350contracostaaction.org
SUMMARY:Clean Air Week 2025: Home Air Quality Monitors
DESCRIPTION:Learn from an expert: Join Electrify Now’s Brian Stewart for an engaging and informative webinar on Clean Air Week 2025: Home Air Quality Monitors. Discover how to understand and improve your home’s air quality\, leading to a healthier and more comfortable living environment. \nWhy Indoor Air Quality Matters Now\nWith a significant portion of the population spending most of their time indoors\, understanding the air quality in our surroundings has never been more critical. Common indoor pollutants\, including volatile organic compounds (VOCs)\, mold\, and particulate matter\, can have a significant impact on our health and well-being. In this webinar\, we’ll explore the importance of monitoring indoor air for a healthy living environment and discuss the best tools to achieve this goal. \nHome Air Monitoring Tools for Cleaner Air\nBrian will introduce a range of affordable and highly accurate indoor air quality monitors that can help you keep track of the air you breathe. He will share valuable insights on the appropriate placement and uses of these monitors\, including: \n\nGas leak detectors\nCarbon monoxide alarms\nSmoke alarms\nPM2.5 monitors\n\nBenefit from Brian’s 40 Years Experience\nWith 40 years experience in engineering\, manufacturing\, product design\, and sustainability\, Brian Stewart co-founded Electrify Now and ensured its commitment to educating homeowners and energy consumers about the benefits of ditching fossil fuels and electrifying their homes. \nRegister Now\nRegister now to secure your spot and contribute to the discussion on improving indoor air quality! \n§ \nHome Air Filtration is the second in a series of webinars hosted by Electrify Now during Clean Air Week 2025. For more about Clean Air Week\, see Everything We Burn\, We Breathe: Clean Air Week 2025 Has an App for That. \n\nImage credit: Clean Air Week 2025\, used with permission
URL:https://350contracostaaction.org/event/clean-air-week-2025-home-air-quality-monitors/
LOCATION:Zoom Meeting
CATEGORIES:Upcoming Events
ATTACH;FMTTYPE=image/jpeg:https://350contracostaaction.org/wp-content/uploads/2025/09/CleanAirWeek2025Schedule_No3_Monitors.jpg
ORGANIZER;CN="Electrify Now Webinars":MAILTO:joeelectrifynow@substack.com
END:VEVENT
BEGIN:VEVENT
DTSTART;TZID=America/Los_Angeles:20250923T100000
DTEND;TZID=America/Los_Angeles:20250923T110000
DTSTAMP:20260420T143159
CREATED:20250920T225444Z
LAST-MODIFIED:20250920T225444Z
UID:10002749-1758621600-1758625200@350contracostaaction.org
SUMMARY:Clean Air Week 2025: Home Air Filtration
DESCRIPTION:What are the health risks of using natural gas indoors? Which appliances emit the most health-impacting vapors? Who is most at risk? And how can you best clean the air in your home? Join electrification expert Brian Stewart from Electrify Now for an engaging Clean Air Week 2025 webinar\, “Home Air Filtration” and gain valuable insights into enhancing the air you breathe at home. Participants will learn about: \n\nCommon indoor air pollutants and their sources\nEffective methods for combating them\nVarious home air filtration technologies\, and\nPractical advice tailored for both homeowners and renters\n\nRegister Now\nThis webinar promises to equip attendees with the knowledge and tools necessary to create a healthier indoor environment\, making it a must-attend event for anyone concerned about air quality in their home. Register now to secure your spot! \n§ \nHome Air Filtration is the second in a series of webinars hosted by Electrify Now during Clean Air Week 2025. For more about Clean Air Week\, see Everything We Burn\, We Breathe: Clean Air Week 2025 Has an App for That. \n\nImage credit: Clean Air Week 2025\, used with permission
URL:https://350contracostaaction.org/event/clean-air-week-2025-home-air-filtration/
LOCATION:Zoom Meeting
CATEGORIES:Upcoming Events
ATTACH;FMTTYPE=image/jpeg:https://350contracostaaction.org/wp-content/uploads/2025/09/CleanAirWeek2025Schedule-_No2_Filtration.jpg
ORGANIZER;CN="Electrify Now Webinars":MAILTO:joeelectrifynow@substack.com
END:VEVENT
BEGIN:VEVENT
DTSTART;TZID=America/Los_Angeles:20250922T120000
DTEND;TZID=America/Los_Angeles:20250922T130000
DTSTAMP:20260420T143159
CREATED:20250920T194501Z
LAST-MODIFIED:20250920T194501Z
UID:10002748-1758542400-1758546000@350contracostaaction.org
SUMMARY:Clean Air Week 2025: The Dangers of Burning Gas in the Home
DESCRIPTION:Discover the hidden dangers of using natural gas in your home during an engaging webinar that highlights the serious health risks associated with gas appliances. Burning gas can release a mix of harmful pollutants\, posing risks similar to those of secondhand smoke. \nPanel Features Leading Researchers and Physicians\nThis informative session features a panel of leading researchers and physicians who will share the latest findings on how gas appliances impact indoor air quality. Attendees will learn about the specific pollutants emitted during combustion\, their effects on health\, the most vulnerable populations\, and how poor ventilation can exacerbate these risks. \nGain insights into which gas-burning appliances contribute the most to indoor pollution and explore practical strategies to reduce these hazards. The panel includes Dr. Curtis Nordgaard\, a pediatrician and environmental health advocate\, and Dr. Eric Lebel\, a senior scientist focused on emissions from residential appliances. \nRegister Now\nDon’t miss this chance to equip yourself with knowledge that can improve your family’s health and well-being. Learn what’s at stake for your family’s health and the best steps to protect yourselves. Register now to secure your spot! \n§ \nThe Dangers of Burning Gas in the Home is the first in a series of webinars hosted by Electrify Now during Clean Air Week 2025. For more about Clean Air Week\, see Everything We Burn\, We Breathe: Clean Air Week 2025 Has an App for That. \n\nImage credit: Clean Air Week 2025\, used with permission
URL:https://350contracostaaction.org/event/clean-air-week-2025-the-dangers-of-burning-gas-in-the-home/
LOCATION:Zoom Meeting
CATEGORIES:Upcoming Events
ATTACH;FMTTYPE=image/jpeg:https://350contracostaaction.org/wp-content/uploads/2025/09/CleanAirWeek2025Schedule_No1_Dangers.jpg
ORGANIZER;CN="Electrify Now Webinars":MAILTO:joeelectrifynow@substack.com
END:VEVENT
BEGIN:VEVENT
DTSTART;TZID=America/Los_Angeles:20241023T080000
DTEND;TZID=America/Los_Angeles:20241023T163000
DTSTAMP:20260420T143159
CREATED:20241017T205204Z
LAST-MODIFIED:20241208T180830Z
UID:10001218-1729670400-1729701000@350contracostaaction.org
SUMMARY:Heat Pump Water Heater Day
DESCRIPTION:An entire day dedicated to heat pump water heater (HPWH) education and awareness.\nFeatured Session: Residential HPWH Market Update\n1:15 PM Pacific Time \nThe HPWH market is transforming\, with more manufacturers entering the scene. Join Electrify Now for an exciting session showcasing companies that have recently launched heat pump water heaters—and others planning to enter the market soon. Learn about new products and see how manufacturers are gearing up to expand in this competitive space. \nDon’t miss out on Heat Pump Water Heater Day! Drop in for the entire day\, or just the sessions that catch your eye. Full agenda here \nREGISTER HERE
URL:https://350contracostaaction.org/event/heat-pump-water-heater-day/
CATEGORIES:Upcoming Events
ATTACH;FMTTYPE=image/png:https://350contracostaaction.org/wp-content/uploads/2024/10/Screenshot-2024-10-17-at-1.46.34 PM.png
ORGANIZER;CN="Electrify Now Webinars":MAILTO:joeelectrifynow@substack.com
LOCATION:https://350contracostaaction.org/event/heat-pump-water-heater-day/
END:VEVENT
BEGIN:VEVENT
DTSTART;TZID=America/Los_Angeles:20241022T000000
DTEND;TZID=America/Los_Angeles:20241022T123000
DTSTAMP:20260420T143159
CREATED:20241017T202612Z
LAST-MODIFIED:20241208T181213Z
UID:10001217-1729555200-1729600200@350contracostaaction.org
SUMMARY:Heat Pump Water Heaters--Lowest Cost\, Lowest Carbon Hot Water
DESCRIPTION:Boost Your Showers and Save with a Heat Pump Water Heater \nReady to slash your energy bills and cut carbon emissions? A heat pump water heater (HPWH) can help you do both! With more models available than ever and sales rising by 35% in 2023\, these efficient appliances are set to dominate the market. New federal standards and local policies are pushing HPWHs to the forefront\, yet many homeowners are still unsure how they work or why they’re the future of water heating. \nJoin us on Tuesday\, October 22nd for a quick\, informative 30-minute “HPWH 101” webinar and learn how to incorporate these game-changing appliances into your home. \nREGISTER HERE
URL:https://350contracostaaction.org/event/heat-pump-water-heaters-lowest-cost-lowest-carbon-hot-water/
CATEGORIES:Upcoming Events
ATTACH;FMTTYPE=image/png:https://350contracostaaction.org/wp-content/uploads/2024/10/Screenshot-2024-10-17-at-1.56.16 PM.png
ORGANIZER;CN="Electrify Now Webinars":MAILTO:joeelectrifynow@substack.com
LOCATION:https://350contracostaaction.org/event/heat-pump-water-heaters-lowest-cost-lowest-carbon-hot-water/
END:VEVENT
BEGIN:VEVENT
DTSTART;TZID=America/Los_Angeles:20241021T090000
DTEND;TZID=America/Los_Angeles:20241021T100000
DTSTAMP:20260420T143159
CREATED:20241017T201435Z
LAST-MODIFIED:20241017T210247Z
UID:10001216-1729501200-1729504800@350contracostaaction.org
SUMMARY:DIY Heat Pump Water Heater Webinar
DESCRIPTION:Installing a heat pump water heater (HPWH) can save money and energy\, but it often costs more than traditional water heaters. Finding an experienced installer can also be tricky. \nThat’s why many homeowners are taking the DIY route—up to 30-50% in areas like the Northwest and Maine. \nJoin Us Live on Monday\, October 21st for a step-by-step HPWH installation\, led by pro installer Steve Brotton from Great Northwest Installations. \nWhat You’ll Get: \n\nWatch a full installation in real-time\nLearn expert tips and shortcuts\nGain confidence to tackle your own install\n\nSave your spot now! Don’t miss out on this unique chance to learn from the pros. \nREGISTER HERE
URL:https://350contracostaaction.org/event/diy-heat-pump-water-heater-webinar/
CATEGORIES:Upcoming Events
ATTACH;FMTTYPE=image/png:https://350contracostaaction.org/wp-content/uploads/2024/10/Screenshot-2024-10-17-at-2.00.31 PM.png
ORGANIZER;CN="Electrify Now Webinars":MAILTO:joeelectrifynow@substack.com
LOCATION:https://350contracostaaction.org/event/diy-heat-pump-water-heater-webinar/
END:VEVENT
END:VCALENDAR