BEGIN:VCALENDAR
VERSION:2.0
PRODID:-//350 Contra Costa Action - ECPv6.15.20//NONSGML v1.0//EN
CALSCALE:GREGORIAN
METHOD:PUBLISH
X-WR-CALNAME:350 Contra Costa Action
X-ORIGINAL-URL:https://350contracostaaction.org
X-WR-CALDESC:Events for 350 Contra Costa Action
REFRESH-INTERVAL;VALUE=DURATION:PT1H
X-Robots-Tag:noindex
X-PUBLISHED-TTL:PT1H
BEGIN:VTIMEZONE
TZID:America/Los_Angeles
BEGIN:DAYLIGHT
TZOFFSETFROM:-0800
TZOFFSETTO:-0700
TZNAME:PDT
DTSTART:20220313T100000
END:DAYLIGHT
BEGIN:STANDARD
TZOFFSETFROM:-0700
TZOFFSETTO:-0800
TZNAME:PST
DTSTART:20221106T090000
END:STANDARD
BEGIN:DAYLIGHT
TZOFFSETFROM:-0800
TZOFFSETTO:-0700
TZNAME:PDT
DTSTART:20230312T100000
END:DAYLIGHT
BEGIN:STANDARD
TZOFFSETFROM:-0700
TZOFFSETTO:-0800
TZNAME:PST
DTSTART:20231105T090000
END:STANDARD
BEGIN:DAYLIGHT
TZOFFSETFROM:-0800
TZOFFSETTO:-0700
TZNAME:PDT
DTSTART:20240310T100000
END:DAYLIGHT
BEGIN:STANDARD
TZOFFSETFROM:-0700
TZOFFSETTO:-0800
TZNAME:PST
DTSTART:20241103T090000
END:STANDARD
END:VTIMEZONE
BEGIN:VEVENT
DTSTART;TZID=America/Los_Angeles:20231026T120000
DTEND;TZID=America/Los_Angeles:20231026T131500
DTSTAMP:20260420T131044
CREATED:20231020T052013Z
LAST-MODIFIED:20240716T225247Z
UID:10001121-1698321600-1698326100@350contracostaaction.org
SUMMARY:Lunch and Learn: What Is a Carbon Sink?
DESCRIPTION:Natural and not-so-natural ways to cool our planet by removing and storing carbon\n\n\n\nIt’s in the news every day: Carbon Capture and Storage (CCS). Learn about both kinds of CCS: the natural carbon capture happening in forests\, wetlands\, and grasslands\, as well as the technology for capturing and storing carbon pollution from fossil fuels. We’ll discuss the proposed Montezuma Wetlands CCS project in our own backyard and what you can do to prevent it. \n\n\n\n350 Contra Costa is proud to co-host this event with the Contra Costa County Library. \n\n\n\n\n\n\n\n\n\n\n\n\n\nPhoto by Ferenc Tibodi on Pexels
URL:https://350contracostaaction.org/event/lunch-and-learn-what-is-a-carbon-sink-2/
LOCATION:Zoom Meeting
CATEGORIES:Upcoming Events
ATTACH;FMTTYPE=image/jpeg:https://350contracostaaction.org/wp-content/uploads/2023/10/pexels-ferenc-tibodi-2895673_wb.jpg
END:VEVENT
BEGIN:VEVENT
DTSTART;TZID=America/Los_Angeles:20231025T120000
DTEND;TZID=America/Los_Angeles:20231025T131500
DTSTAMP:20260420T131044
CREATED:20231020T053321Z
LAST-MODIFIED:20241202T184339Z
UID:10001122-1698235200-1698239700@350contracostaaction.org
SUMMARY:Lunch and Learn: Climate Change Solutions and Advocacy
DESCRIPTION:The role of advocacy for clean\, renewable energy to power our world\n\n\n\nTo bring in a livable future for our children\, we need ordinary citizens to advocate at all levels of government for electrification and a transition to renewable energy sources. \n\n\n\n350 Contra Costa is proud to co-host this event with the Contra Costa County Library. \n\n\n\n\n\n\n\n\n\n\n\n\n\nPhoto by Kevin Grieve on Pexels
URL:https://350contracostaaction.org/event/lunch-and-learn-climate-change-solutions-and-advocacy/
LOCATION:Zoom Meeting
CATEGORIES:Upcoming Events
ATTACH;FMTTYPE=image/jpeg:https://350contracostaaction.org/wp-content/uploads/2023/10/pexels-kevin-grieve-9344352_wb.jpg
END:VEVENT
BEGIN:VEVENT
DTSTART;TZID=America/Los_Angeles:20231023T120000
DTEND;TZID=America/Los_Angeles:20231023T131500
DTSTAMP:20260420T131044
CREATED:20231018T025115Z
LAST-MODIFIED:20240716T225309Z
UID:10001117-1698062400-1698066900@350contracostaaction.org
SUMMARY:Lunch and Learn: Building Electrification at Home
DESCRIPTION:Practical information for switching to electric appliances\n\n\n\nLearn about rebates and tax credits that help upgrade your home and improve indoor air quality while helping the environment. \n\n\n\n350 Contra Costa is proud to co-host this event with the Contra Costa County Library. \n\n\n\n\n\n\n\n\n\n\n\n\n\nPhoto by Ron Lach on Pexels
URL:https://350contracostaaction.org/event/lunch-and-learn-building-electrification-at-home/
LOCATION:Zoom Meeting
CATEGORIES:Upcoming Events
ATTACH;FMTTYPE=image/jpeg:https://350contracostaaction.org/wp-content/uploads/2023/10/pexels-ron-lach-8175344_wb.jpg
END:VEVENT
END:VCALENDAR