BEGIN:VCALENDAR
VERSION:2.0
PRODID:-//350 Contra Costa Action - ECPv6.15.20//NONSGML v1.0//EN
CALSCALE:GREGORIAN
METHOD:PUBLISH
X-ORIGINAL-URL:https://350contracostaaction.org
X-WR-CALDESC:Events for 350 Contra Costa Action
REFRESH-INTERVAL;VALUE=DURATION:PT1H
X-Robots-Tag:noindex
X-PUBLISHED-TTL:PT1H
BEGIN:VTIMEZONE
TZID:America/Los_Angeles
BEGIN:DAYLIGHT
TZOFFSETFROM:-0800
TZOFFSETTO:-0700
TZNAME:PDT
DTSTART:20240310T100000
END:DAYLIGHT
BEGIN:STANDARD
TZOFFSETFROM:-0700
TZOFFSETTO:-0800
TZNAME:PST
DTSTART:20241103T090000
END:STANDARD
BEGIN:DAYLIGHT
TZOFFSETFROM:-0800
TZOFFSETTO:-0700
TZNAME:PDT
DTSTART:20250309T100000
END:DAYLIGHT
BEGIN:STANDARD
TZOFFSETFROM:-0700
TZOFFSETTO:-0800
TZNAME:PST
DTSTART:20251102T090000
END:STANDARD
BEGIN:DAYLIGHT
TZOFFSETFROM:-0800
TZOFFSETTO:-0700
TZNAME:PDT
DTSTART:20260308T100000
END:DAYLIGHT
BEGIN:STANDARD
TZOFFSETFROM:-0700
TZOFFSETTO:-0800
TZNAME:PST
DTSTART:20261101T090000
END:STANDARD
END:VTIMEZONE
BEGIN:VEVENT
DTSTART;TZID=America/Los_Angeles:20250704T110000
DTEND;TZID=America/Los_Angeles:20250704T170000
DTSTAMP:20260424T071030
CREATED:20250616T195348Z
LAST-MODIFIED:20250616T201355Z
UID:10001565-1751626800-1751648400@350contracostaaction.org
SUMMARY:Celebrate with Us at the El Cerrito 4th of July 2025 Festival!
DESCRIPTION:Celebrate with us on Friday\, July 4 from 11 AM to 5 PM at the annual El Cerrito 4th of July Festival! Come together with friends and family amidst colorful banners and world-class music. \nAttractions abound! Dance to live bands\, munch on delicious food\, cool off at beverage stands\, take the kids on rides\, and watch them squeal in the bounce houses. Don’t forget the vendor stalls. We’ll be there! The festival is free\, but some attractions require payment. Learn more here. \nStop by our booth and celebrate with us for a day filled with fun\, community spirit\, and excitement! We’ll have activities for the kiddos and plenty of information about our latest initiatives to stop fossil fuels\, mitigate the effects of climate change\, and foster a livable future. \nCan’t make the July 4th celebration in El Cerrito? Catch us at one of our other upcoming events. \n\nImage courtesy City of El Cerrito\, used with permission
URL:https://350contracostaaction.org/event/celebrate-with-us-at-the-el-cerrito-4th-of-july-2025-festival/
LOCATION:Cerrito Vista Park\, 950 Ponoma Avenue\, El Cerrito\, California\, United States
CATEGORIES:Upcoming Events
ATTACH;FMTTYPE=image/jpeg:https://350contracostaaction.org/wp-content/uploads/2025/06/ElCerrito_4th_2025.jpg
END:VEVENT
BEGIN:VEVENT
DTSTART;TZID=America/Los_Angeles:20250426T110000
DTEND;TZID=America/Los_Angeles:20250426T150000
DTSTAMP:20260424T071030
CREATED:20250411T010752Z
LAST-MODIFIED:20250518T200247Z
UID:10001348-1745665200-1745679600@350contracostaaction.org
SUMMARY:El Cerrito Go Green Mobility Fair April 26th
DESCRIPTION:Traveling with the Planet in Mind\nJoin the City of El Cerrito\, City of Berkeley\, Bay Area Rapid Transit (BART)\, ECRA Walk and Roll & Bike East Bay for a GO GREEN! Mobility Fair at the El Cerrito Plaza BART north parking lot\, on Saturday\, April 26\, 11am-3pm. Bring the family for games\, music\, food and much more! \nGet the skinny on every aspect of the fair—from games to test rides to live music and bike smoothies. While you’re there\, meet up with us and our friends at Climate Reality Bay Area\, with whom we are sharing a booth. \nSee other Earth Day and Earth Month events around Contra Costa County. There’s one near you!
URL:https://350contracostaaction.org/event/el-cerrito-go-green-mobility-fair-april-26th/
LOCATION:El Cerrito Plaza Bart—North Parking Lot\, 515 Richmond Street\, El Cerrito\, CA\, 94530\, United States
CATEGORIES:Upcoming Events
ATTACH;FMTTYPE=image/jpeg:https://350contracostaaction.org/wp-content/uploads/2025/04/GoGreenMobilityFair_ElCerrito.jpeg
END:VEVENT
BEGIN:VEVENT
DTSTART;TZID=America/Los_Angeles:20250419T090000
DTEND;TZID=America/Los_Angeles:20250419T120000
DTSTAMP:20260424T071030
CREATED:20250409T210110Z
LAST-MODIFIED:20250409T210110Z
UID:10001343-1745053200-1745064000@350contracostaaction.org
SUMMARY:El Cerrito Earth Day 2025 Celebration
DESCRIPTION:Each year in April\, the City of El Cerrito celebrates Earth Day with a morning of volunteerism. \nWe invite you to join or organize an Earth Day work party! \nThe City of El Cerrito welcomes volunteers to: \n\nHelp tidy parks & public spaces\nPick up litter to reduce the amount of trash that ends up in our creeks\, waterways and the Bay\nRemove invasive plants and weeds\nParticipate in activities that beautify our community’s natural areas\n\nThe City encourages individuals\, families and groups to register their work parties in advance by completing a Work Party Registration Form or emailing earthday@ci.el-cerrito.ca.us with details on site location\, number of volunteers and type of work that will be performed by April 13\, 2025. \nNot ready to organize your own work party? The City has a list of locations and parties you can join. \nWe’ll be there! Watch for us pitching in\, or find us at some of these other 2025 Earth Month events in Contra Costa County and beyond.
URL:https://350contracostaaction.org/event/el-cerrito-earth-day-2025-celebration/
CATEGORIES:Upcoming Events
ATTACH;FMTTYPE=image/jpeg:https://350contracostaaction.org/wp-content/uploads/2025/04/ElCerritoEarthDay2025.jpeg
END:VEVENT
END:VCALENDAR