BEGIN:VCALENDAR
VERSION:2.0
PRODID:-//350 Contra Costa Action - ECPv6.15.20//NONSGML v1.0//EN
CALSCALE:GREGORIAN
METHOD:PUBLISH
X-WR-CALNAME:350 Contra Costa Action
X-ORIGINAL-URL:https://350contracostaaction.org
X-WR-CALDESC:Events for 350 Contra Costa Action
REFRESH-INTERVAL;VALUE=DURATION:PT1H
X-Robots-Tag:noindex
X-PUBLISHED-TTL:PT1H
BEGIN:VTIMEZONE
TZID:America/Los_Angeles
BEGIN:DAYLIGHT
TZOFFSETFROM:-0800
TZOFFSETTO:-0700
TZNAME:PDT
DTSTART:20220313T100000
END:DAYLIGHT
BEGIN:STANDARD
TZOFFSETFROM:-0700
TZOFFSETTO:-0800
TZNAME:PST
DTSTART:20221106T090000
END:STANDARD
BEGIN:DAYLIGHT
TZOFFSETFROM:-0800
TZOFFSETTO:-0700
TZNAME:PDT
DTSTART:20230312T100000
END:DAYLIGHT
BEGIN:STANDARD
TZOFFSETFROM:-0700
TZOFFSETTO:-0800
TZNAME:PST
DTSTART:20231105T090000
END:STANDARD
BEGIN:DAYLIGHT
TZOFFSETFROM:-0800
TZOFFSETTO:-0700
TZNAME:PDT
DTSTART:20240310T100000
END:DAYLIGHT
BEGIN:STANDARD
TZOFFSETFROM:-0700
TZOFFSETTO:-0800
TZNAME:PST
DTSTART:20241103T090000
END:STANDARD
END:VTIMEZONE
BEGIN:VEVENT
DTSTART;TZID=America/Los_Angeles:20230520T110000
DTEND;TZID=America/Los_Angeles:20230520T180000
DTSTAMP:20260421T090530
CREATED:20230402T023001Z
LAST-MODIFIED:20240716T225520Z
UID:11531-1684580400-1684605600@350contracostaaction.org
SUMMARY:The Shoreline Festival on the Waterfront
DESCRIPTION: \n\n\n\n\n\n\n\nBring the kids and find our booth at this fun-packed day!Live music all day\, hot air balloon rides\, children’s area\, free activities.Bring your reusable water bottle for a discount on beverages. \n\nOrganizer: Contra Costa Resource Conservation District \n \nEvent Details: Shoreline Festival \n \nFree Admission
URL:https://350contracostaaction.org/event/the-shoreline-festival-on-the-waterfront/
LOCATION:The Crockett Waterfront\, ​1909 Dowrelio Drive\, Crockett\, CA\, 94525\, United States
CATEGORIES:Upcoming Events
ATTACH;FMTTYPE=image/png:https://350contracostaaction.org/wp-content/uploads/2023/04/FINAL-ShorelineFestival_sm2.png
GEO:38.0562479;-122.229425
X-APPLE-STRUCTURED-LOCATION;VALUE=URI;X-ADDRESS=The Crockett Waterfront ​1909 Dowrelio Drive Crockett CA 94525 United States;X-APPLE-RADIUS=500;X-TITLE=​1909 Dowrelio Drive:geo:-122.229425,38.0562479
END:VEVENT
END:VCALENDAR