BEGIN:VCALENDAR
VERSION:2.0
PRODID:-//350 Contra Costa Action - ECPv6.15.20//NONSGML v1.0//EN
CALSCALE:GREGORIAN
METHOD:PUBLISH
X-WR-CALNAME:350 Contra Costa Action
X-ORIGINAL-URL:https://350contracostaaction.org
X-WR-CALDESC:Events for 350 Contra Costa Action
REFRESH-INTERVAL;VALUE=DURATION:PT1H
X-Robots-Tag:noindex
X-PUBLISHED-TTL:PT1H
BEGIN:VTIMEZONE
TZID:America/Los_Angeles
BEGIN:DAYLIGHT
TZOFFSETFROM:-0800
TZOFFSETTO:-0700
TZNAME:PDT
DTSTART:20240310T100000
END:DAYLIGHT
BEGIN:STANDARD
TZOFFSETFROM:-0700
TZOFFSETTO:-0800
TZNAME:PST
DTSTART:20241103T090000
END:STANDARD
BEGIN:DAYLIGHT
TZOFFSETFROM:-0800
TZOFFSETTO:-0700
TZNAME:PDT
DTSTART:20250309T100000
END:DAYLIGHT
BEGIN:STANDARD
TZOFFSETFROM:-0700
TZOFFSETTO:-0800
TZNAME:PST
DTSTART:20251102T090000
END:STANDARD
BEGIN:DAYLIGHT
TZOFFSETFROM:-0800
TZOFFSETTO:-0700
TZNAME:PDT
DTSTART:20260308T100000
END:DAYLIGHT
BEGIN:STANDARD
TZOFFSETFROM:-0700
TZOFFSETTO:-0800
TZNAME:PST
DTSTART:20261101T090000
END:STANDARD
END:VTIMEZONE
BEGIN:VEVENT
DTSTART;TZID=America/Los_Angeles:20250419T110000
DTEND;TZID=America/Los_Angeles:20250419T140000
DTSTAMP:20260419T094619
CREATED:20250410T084901Z
LAST-MODIFIED:20250415T165436Z
UID:22277-1745060400-1745071200@350contracostaaction.org
SUMMARY:San Ramon Forest Home Farms Earth and Arbor Day Celebration
DESCRIPTION:Plant a tree for Earth Day at Forest Home Farms\nDid you know San Ramon is a registered Tree City? Join the Forest Home Farms crew for an annual tree planting and celebrate our planet for Earth Day! \nFun on the Farm Activities are FREE* crafts and activities that highlight farm life and the late Victorian era. This Earth Day and Arbor Day celebration is an opportunity to step back into history and enjoy the simple things of life. This free event is a partnership between the City of San Ramon and the San Ramon Historic Foundation. \nLook for our friends of the San Ramon Valley Climate Coalition where you’ll find plenty of fun activities for the kids. \n___________________\nImage credit: Lorna Pauli on Pexels
URL:https://350contracostaaction.org/event/san-ramon-forest-home-farms-earth-and-arbor-day-celebration/
LOCATION:Forest Home Farms\, San Ramon\, CA\, 19953 San Ramon Valley Blvd\, San Ramon\, CA\, 94583\, United States
CATEGORIES:Upcoming Events
ATTACH;FMTTYPE=image/jpeg:https://350contracostaaction.org/wp-content/uploads/2025/04/pexels-lorna-pauli-1320744316-31507576.jpg
END:VEVENT
END:VCALENDAR