BEGIN:VCALENDAR
VERSION:2.0
PRODID:-//350 Contra Costa Action - ECPv6.15.20//NONSGML v1.0//EN
CALSCALE:GREGORIAN
METHOD:PUBLISH
X-WR-CALNAME:350 Contra Costa Action
X-ORIGINAL-URL:https://350contracostaaction.org
X-WR-CALDESC:Events for 350 Contra Costa Action
REFRESH-INTERVAL;VALUE=DURATION:PT1H
X-Robots-Tag:noindex
X-PUBLISHED-TTL:PT1H
BEGIN:VTIMEZONE
TZID:America/Los_Angeles
BEGIN:DAYLIGHT
TZOFFSETFROM:-0800
TZOFFSETTO:-0700
TZNAME:PDT
DTSTART:20240310T100000
END:DAYLIGHT
BEGIN:STANDARD
TZOFFSETFROM:-0700
TZOFFSETTO:-0800
TZNAME:PST
DTSTART:20241103T090000
END:STANDARD
BEGIN:DAYLIGHT
TZOFFSETFROM:-0800
TZOFFSETTO:-0700
TZNAME:PDT
DTSTART:20250309T100000
END:DAYLIGHT
BEGIN:STANDARD
TZOFFSETFROM:-0700
TZOFFSETTO:-0800
TZNAME:PST
DTSTART:20251102T090000
END:STANDARD
BEGIN:DAYLIGHT
TZOFFSETFROM:-0800
TZOFFSETTO:-0700
TZNAME:PDT
DTSTART:20260308T100000
END:DAYLIGHT
BEGIN:STANDARD
TZOFFSETFROM:-0700
TZOFFSETTO:-0800
TZNAME:PST
DTSTART:20261101T090000
END:STANDARD
END:VTIMEZONE
BEGIN:VEVENT
DTSTART;TZID=America/Los_Angeles:20251122T090000
DTEND;TZID=America/Los_Angeles:20251122T130000
DTSTAMP:20260420T043328
CREATED:20251111T170022Z
LAST-MODIFIED:20251112T172038Z
UID:24684-1763802000-1763816400@350contracostaaction.org
SUMMARY:Meet Us at the Brentwood Farmers Market November 22
DESCRIPTION:With over 41 vendors\, the Brentwood Farmers Market has everything from soup to nuts\, some of it organic\, all of it tasty. And now—350 Contra Costa Action! Yes\, we’ll be there too\, on November 22. Bring your portable shopping cart\, fill up on goodies\, and stop by our table to say hello and check out what we’re working on this month. \n\nImage: Seed Sower statue\, Brentwood City Park\nCredit: Anne Grenier\, used with permission
URL:https://350contracostaaction.org/event/meet-us-at-the-brentwood-farmers-market-november-22/
LOCATION:Brentwood Farmers Market\, 655 First Street\, Brentwood\, CA\, 94513
CATEGORIES:Upcoming Events
ATTACH;FMTTYPE=image/jpeg:https://350contracostaaction.org/wp-content/uploads/2025/11/Seed-Sower-Statue-Brentwood-City-Park.jpg
END:VEVENT
END:VCALENDAR