BEGIN:VCALENDAR
VERSION:2.0
PRODID:-//350 Contra Costa Action - ECPv6.15.20//NONSGML v1.0//EN
CALSCALE:GREGORIAN
METHOD:PUBLISH
X-WR-CALNAME:350 Contra Costa Action
X-ORIGINAL-URL:https://350contracostaaction.org
X-WR-CALDESC:Events for 350 Contra Costa Action
REFRESH-INTERVAL;VALUE=DURATION:PT1H
X-Robots-Tag:noindex
X-PUBLISHED-TTL:PT1H
BEGIN:VTIMEZONE
TZID:America/Los_Angeles
BEGIN:DAYLIGHT
TZOFFSETFROM:-0800
TZOFFSETTO:-0700
TZNAME:PDT
DTSTART:20220313T100000
END:DAYLIGHT
BEGIN:STANDARD
TZOFFSETFROM:-0700
TZOFFSETTO:-0800
TZNAME:PST
DTSTART:20221106T090000
END:STANDARD
BEGIN:DAYLIGHT
TZOFFSETFROM:-0800
TZOFFSETTO:-0700
TZNAME:PDT
DTSTART:20230312T100000
END:DAYLIGHT
BEGIN:STANDARD
TZOFFSETFROM:-0700
TZOFFSETTO:-0800
TZNAME:PST
DTSTART:20231105T090000
END:STANDARD
BEGIN:DAYLIGHT
TZOFFSETFROM:-0800
TZOFFSETTO:-0700
TZNAME:PDT
DTSTART:20240310T100000
END:DAYLIGHT
BEGIN:STANDARD
TZOFFSETFROM:-0700
TZOFFSETTO:-0800
TZNAME:PST
DTSTART:20241103T090000
END:STANDARD
END:VTIMEZONE
BEGIN:VEVENT
DTSTART;TZID=America/Los_Angeles:20230617T120000
DTEND;TZID=America/Los_Angeles:20230619T180000
DTSTAMP:20260419T093629
CREATED:20230611T171449Z
LAST-MODIFIED:20240716T225509Z
UID:14306-1687003200-1687197600@350contracostaaction.org
SUMMARY:Let Freedom Ring: Juneteenth Celebration
DESCRIPTION:This year’s theme is “Strengthening Our Village.” Join the Antioch community all three days for carnival rides\, food\, crafts and arts\, live entertainment\, and a job fair in celebration of the Emancipation Proclamation and the 13th Amendment\, which abolished slavery. Learn about community resources while you’re there. And look for our booth on the final day\, Monday\, June 19\, when we’ll be there\, joining in the fun as well as in the serious business of working toward ending environmental racism.
URL:https://350contracostaaction.org/event/let-freedom-ring-juneteenth-celebration/
LOCATION:Contra Costa Event Park\, 1201 W Tenth St\, Antioch\, 94509
CATEGORIES:Upcoming Events
ATTACH;FMTTYPE=image/jpeg:https://350contracostaaction.org/wp-content/uploads/2023/06/juneteenth_antioch_2023.jpg
ORGANIZER;CN="East County Juneteenth Committee":MAILTO:Eastcountyjuneteenth@gmail.com
END:VEVENT
END:VCALENDAR