BEGIN:VCALENDAR
VERSION:2.0
PRODID:-//350 Contra Costa Action - ECPv6.15.20//NONSGML v1.0//EN
CALSCALE:GREGORIAN
METHOD:PUBLISH
X-WR-CALNAME:350 Contra Costa Action
X-ORIGINAL-URL:https://350contracostaaction.org
X-WR-CALDESC:Events for 350 Contra Costa Action
REFRESH-INTERVAL;VALUE=DURATION:PT1H
X-Robots-Tag:noindex
X-PUBLISHED-TTL:PT1H
BEGIN:VTIMEZONE
TZID:America/Los_Angeles
BEGIN:DAYLIGHT
TZOFFSETFROM:-0800
TZOFFSETTO:-0700
TZNAME:PDT
DTSTART:20230312T100000
END:DAYLIGHT
BEGIN:STANDARD
TZOFFSETFROM:-0700
TZOFFSETTO:-0800
TZNAME:PST
DTSTART:20231105T090000
END:STANDARD
BEGIN:DAYLIGHT
TZOFFSETFROM:-0800
TZOFFSETTO:-0700
TZNAME:PDT
DTSTART:20240310T100000
END:DAYLIGHT
BEGIN:STANDARD
TZOFFSETFROM:-0700
TZOFFSETTO:-0800
TZNAME:PST
DTSTART:20241103T090000
END:STANDARD
BEGIN:DAYLIGHT
TZOFFSETFROM:-0800
TZOFFSETTO:-0700
TZNAME:PDT
DTSTART:20250309T100000
END:DAYLIGHT
BEGIN:STANDARD
TZOFFSETFROM:-0700
TZOFFSETTO:-0800
TZNAME:PST
DTSTART:20251102T090000
END:STANDARD
END:VTIMEZONE
BEGIN:VEVENT
DTSTART;TZID=America/Los_Angeles:20240310T110000
DTEND;TZID=America/Los_Angeles:20240310T150000
DTSTAMP:20260419T111041
CREATED:20240313T000112Z
LAST-MODIFIED:20240716T225235Z
UID:16535-1710068400-1710082800@350contracostaaction.org
SUMMARY:Electrified Home Tour
DESCRIPTION:The Electrified Home Tour is an in-person\, free event that will take place at four electrified homes in Alameda and Contra Costa County. \n\n\n\nElectrifying your home can save you money\, protect your and your children’s health\, help reduce global warming\, and keep you more comfortable. \n\n\n\nCome learn how on the upcoming\, free Electrified Home Tour\, a new program of the Bringing Back the Natives Garden Tour and Green Home Features Showcase.
URL:https://350contracostaaction.org/event/electrified-home-tour-3/
LOCATION:Bringing Back the Natives\, San Pablo\, CA\, 94806\, United States
CATEGORIES:Upcoming Events
ATTACH;FMTTYPE=image/jpeg:https://350contracostaaction.org/wp-content/uploads/2024/03/ElectrifiedHomesTour2024.jpg
END:VEVENT
END:VCALENDAR