BEGIN:VCALENDAR
VERSION:2.0
PRODID:-//350 Contra Costa Action - ECPv6.15.20//NONSGML v1.0//EN
CALSCALE:GREGORIAN
METHOD:PUBLISH
X-WR-CALNAME:350 Contra Costa Action
X-ORIGINAL-URL:https://350contracostaaction.org
X-WR-CALDESC:Events for 350 Contra Costa Action
REFRESH-INTERVAL;VALUE=DURATION:PT1H
X-Robots-Tag:noindex
X-PUBLISHED-TTL:PT1H
BEGIN:VTIMEZONE
TZID:America/Los_Angeles
BEGIN:DAYLIGHT
TZOFFSETFROM:-0800
TZOFFSETTO:-0700
TZNAME:PDT
DTSTART:20240310T100000
END:DAYLIGHT
BEGIN:STANDARD
TZOFFSETFROM:-0700
TZOFFSETTO:-0800
TZNAME:PST
DTSTART:20241103T090000
END:STANDARD
BEGIN:DAYLIGHT
TZOFFSETFROM:-0800
TZOFFSETTO:-0700
TZNAME:PDT
DTSTART:20250309T100000
END:DAYLIGHT
BEGIN:STANDARD
TZOFFSETFROM:-0700
TZOFFSETTO:-0800
TZNAME:PST
DTSTART:20251102T090000
END:STANDARD
BEGIN:DAYLIGHT
TZOFFSETFROM:-0800
TZOFFSETTO:-0700
TZNAME:PDT
DTSTART:20260308T100000
END:DAYLIGHT
BEGIN:STANDARD
TZOFFSETFROM:-0700
TZOFFSETTO:-0800
TZNAME:PST
DTSTART:20261101T090000
END:STANDARD
END:VTIMEZONE
BEGIN:VEVENT
DTSTART;TZID=America/Los_Angeles:20250419T093000
DTEND;TZID=America/Los_Angeles:20250419T140000
DTSTAMP:20260419T093921
CREATED:20250409T231355Z
LAST-MODIFIED:20250409T231355Z
UID:22248-1745055000-1745071200@350contracostaaction.org
SUMMARY:El Sobrante Earth Day Cleanup and Celebration
DESCRIPTION:Come for the Earth Day 2025 Cleanup\nEarth Day 2025 cleanup is on April 19. Meet at 9:30 AM at El Sobrante Library\, 4191 Appian Way\, and select a location to clean up with other volunteers. Bring your own hat and water bottle. You can borrow equipment (grabbers\, gloves\, safety vests\, buckets\, bags\, etc.) or bring your own to help pick up litter. Return equipment by noon or so and enjoy the program and company of other volunteers afterwards. Volunteers always needed\, so please drop the Green Team an email. \nStay for the Celebration!\nAfter the cleanup\, join 350 Contra Costa Action at the Green Team 94803 Earth Day celebration at the library 11:45am-2pm. Music\, food\, face painting\, and lots of activities for the kids. And look for us at some of these other 2025 Earth Month events in Contra Costa County and beyond.
URL:https://350contracostaaction.org/event/el-sobrante-earth-day-cleanup-and-celebration/
LOCATION:El Sobrante Library\, 4191 Appian Way\, El Sobrante\, CA\, 94803\, United States
CATEGORIES:Upcoming Events
ATTACH;FMTTYPE=image/jpeg:https://350contracostaaction.org/wp-content/uploads/2025/04/ElSobranteEarthDay2025-1.jpg
END:VEVENT
END:VCALENDAR