BEGIN:VCALENDAR
VERSION:2.0
PRODID:-//350 Contra Costa Action - ECPv6.15.20//NONSGML v1.0//EN
CALSCALE:GREGORIAN
METHOD:PUBLISH
X-WR-CALNAME:350 Contra Costa Action
X-ORIGINAL-URL:https://350contracostaaction.org
X-WR-CALDESC:Events for 350 Contra Costa Action
REFRESH-INTERVAL;VALUE=DURATION:PT1H
X-Robots-Tag:noindex
X-PUBLISHED-TTL:PT1H
BEGIN:VTIMEZONE
TZID:America/Los_Angeles
BEGIN:DAYLIGHT
TZOFFSETFROM:-0800
TZOFFSETTO:-0700
TZNAME:PDT
DTSTART:20240310T100000
END:DAYLIGHT
BEGIN:STANDARD
TZOFFSETFROM:-0700
TZOFFSETTO:-0800
TZNAME:PST
DTSTART:20241103T090000
END:STANDARD
BEGIN:DAYLIGHT
TZOFFSETFROM:-0800
TZOFFSETTO:-0700
TZNAME:PDT
DTSTART:20250309T100000
END:DAYLIGHT
BEGIN:STANDARD
TZOFFSETFROM:-0700
TZOFFSETTO:-0800
TZNAME:PST
DTSTART:20251102T090000
END:STANDARD
BEGIN:DAYLIGHT
TZOFFSETFROM:-0800
TZOFFSETTO:-0700
TZNAME:PDT
DTSTART:20260308T100000
END:DAYLIGHT
BEGIN:STANDARD
TZOFFSETFROM:-0700
TZOFFSETTO:-0800
TZNAME:PST
DTSTART:20261101T090000
END:STANDARD
END:VTIMEZONE
BEGIN:VEVENT
DTSTART;TZID=America/Los_Angeles:20250424T180000
DTEND;TZID=America/Los_Angeles:20250424T193000
DTSTAMP:20260419T140619
CREATED:20250420T200037Z
LAST-MODIFIED:20250518T200255Z
UID:22462-1745517600-1745523000@350contracostaaction.org
SUMMARY:Cleaning Up California’s Manufacturing Sector: Clean Heat for Communities and Workers
DESCRIPTION:Join Earthjustice\, Industrious Labs\, and Sierra Club for a webinar on Thursday\, April 24th at 6pm to learn about how we can clean up California’s polluting manufacturing sector. Industrial emissions are responsible for 20 percent of our state’s total greenhouse gas emissions\, second only to the transportation sector. By cleaning up industrial heating processes\, we will not only reduce emissions\, but improve community health\, protect\, and create good jobs. \nThat’s why we’re inviting you to our webinar: Cleaning Up California’s Manufacturing Sector: 🔥Clean Heat for Communities and Workers \nTogether we’ll explore how electrifying industrial builders can: \n✅ Protect public health and frontline communities \n✅ Safeguard workers \n✅ Slash climate pollution \n✅ And move us toward a cleaner\, more just future \nYou’ll hear from advocates\, experts and organizers leading this fight—whether it’s pushing for stronger clean heat rules in California’s Bay Area or building momentum for policies nationwide. \nRSVP now to join the conversation and take action.
URL:https://350contracostaaction.org/event/cleaning-up-californias-manufacturing-sector-clean-heat-for-communities-and-workers/
LOCATION:Zoom Meeting
CATEGORIES:Upcoming Events
ATTACH;FMTTYPE=image/png:https://350contracostaaction.org/wp-content/uploads/2025/04/IMG_0761.png
END:VEVENT
END:VCALENDAR