BEGIN:VCALENDAR
VERSION:2.0
PRODID:-//350 Contra Costa Action - ECPv6.15.20//NONSGML v1.0//EN
CALSCALE:GREGORIAN
METHOD:PUBLISH
X-WR-CALNAME:350 Contra Costa Action
X-ORIGINAL-URL:https://350contracostaaction.org
X-WR-CALDESC:Events for 350 Contra Costa Action
REFRESH-INTERVAL;VALUE=DURATION:PT1H
X-Robots-Tag:noindex
X-PUBLISHED-TTL:PT1H
BEGIN:VTIMEZONE
TZID:America/Los_Angeles
BEGIN:DAYLIGHT
TZOFFSETFROM:-0800
TZOFFSETTO:-0700
TZNAME:PDT
DTSTART:20240310T100000
END:DAYLIGHT
BEGIN:STANDARD
TZOFFSETFROM:-0700
TZOFFSETTO:-0800
TZNAME:PST
DTSTART:20241103T090000
END:STANDARD
BEGIN:DAYLIGHT
TZOFFSETFROM:-0800
TZOFFSETTO:-0700
TZNAME:PDT
DTSTART:20250309T100000
END:DAYLIGHT
BEGIN:STANDARD
TZOFFSETFROM:-0700
TZOFFSETTO:-0800
TZNAME:PST
DTSTART:20251102T090000
END:STANDARD
BEGIN:DAYLIGHT
TZOFFSETFROM:-0800
TZOFFSETTO:-0700
TZNAME:PDT
DTSTART:20260308T100000
END:DAYLIGHT
BEGIN:STANDARD
TZOFFSETFROM:-0700
TZOFFSETTO:-0800
TZNAME:PST
DTSTART:20261101T090000
END:STANDARD
END:VTIMEZONE
BEGIN:VEVENT
DTSTART;TZID=America/Los_Angeles:20250922T120000
DTEND;TZID=America/Los_Angeles:20250922T130000
DTSTAMP:20260419T134449
CREATED:20250920T194501Z
LAST-MODIFIED:20250920T194501Z
UID:23801-1758542400-1758546000@350contracostaaction.org
SUMMARY:Clean Air Week 2025: The Dangers of Burning Gas in the Home
DESCRIPTION:Discover the hidden dangers of using natural gas in your home during an engaging webinar that highlights the serious health risks associated with gas appliances. Burning gas can release a mix of harmful pollutants\, posing risks similar to those of secondhand smoke. \nPanel Features Leading Researchers and Physicians\nThis informative session features a panel of leading researchers and physicians who will share the latest findings on how gas appliances impact indoor air quality. Attendees will learn about the specific pollutants emitted during combustion\, their effects on health\, the most vulnerable populations\, and how poor ventilation can exacerbate these risks. \nGain insights into which gas-burning appliances contribute the most to indoor pollution and explore practical strategies to reduce these hazards. The panel includes Dr. Curtis Nordgaard\, a pediatrician and environmental health advocate\, and Dr. Eric Lebel\, a senior scientist focused on emissions from residential appliances. \nRegister Now\nDon’t miss this chance to equip yourself with knowledge that can improve your family’s health and well-being. Learn what’s at stake for your family’s health and the best steps to protect yourselves. Register now to secure your spot! \n§ \nThe Dangers of Burning Gas in the Home is the first in a series of webinars hosted by Electrify Now during Clean Air Week 2025. For more about Clean Air Week\, see Everything We Burn\, We Breathe: Clean Air Week 2025 Has an App for That. \n\nImage credit: Clean Air Week 2025\, used with permission
URL:https://350contracostaaction.org/event/clean-air-week-2025-the-dangers-of-burning-gas-in-the-home/
LOCATION:Zoom Meeting
CATEGORIES:Upcoming Events
ATTACH;FMTTYPE=image/jpeg:https://350contracostaaction.org/wp-content/uploads/2025/09/CleanAirWeek2025Schedule_No1_Dangers.jpg
ORGANIZER;CN="Electrify Now Webinars":MAILTO:joeelectrifynow@substack.com
END:VEVENT
END:VCALENDAR