BEGIN:VCALENDAR
VERSION:2.0
PRODID:-//350 Contra Costa Action - ECPv6.15.20//NONSGML v1.0//EN
CALSCALE:GREGORIAN
METHOD:PUBLISH
X-WR-CALNAME:350 Contra Costa Action
X-ORIGINAL-URL:https://350contracostaaction.org
X-WR-CALDESC:Events for 350 Contra Costa Action
REFRESH-INTERVAL;VALUE=DURATION:PT1H
X-Robots-Tag:noindex
X-PUBLISHED-TTL:PT1H
BEGIN:VTIMEZONE
TZID:America/Los_Angeles
BEGIN:DAYLIGHT
TZOFFSETFROM:-0800
TZOFFSETTO:-0700
TZNAME:PDT
DTSTART:20240310T100000
END:DAYLIGHT
BEGIN:STANDARD
TZOFFSETFROM:-0700
TZOFFSETTO:-0800
TZNAME:PST
DTSTART:20241103T090000
END:STANDARD
BEGIN:DAYLIGHT
TZOFFSETFROM:-0800
TZOFFSETTO:-0700
TZNAME:PDT
DTSTART:20250309T100000
END:DAYLIGHT
BEGIN:STANDARD
TZOFFSETFROM:-0700
TZOFFSETTO:-0800
TZNAME:PST
DTSTART:20251102T090000
END:STANDARD
BEGIN:DAYLIGHT
TZOFFSETFROM:-0800
TZOFFSETTO:-0700
TZNAME:PDT
DTSTART:20260308T100000
END:DAYLIGHT
BEGIN:STANDARD
TZOFFSETFROM:-0700
TZOFFSETTO:-0800
TZNAME:PST
DTSTART:20261101T090000
END:STANDARD
END:VTIMEZONE
BEGIN:VEVENT
DTSTART;TZID=America/Los_Angeles:20250422T090000
DTEND;TZID=America/Los_Angeles:20250422T170000
DTSTAMP:20260419T093649
CREATED:20250419T011900Z
LAST-MODIFIED:20250518T200302Z
UID:22446-1745312400-1745341200@350contracostaaction.org
SUMMARY:California Climate Policy Summit 2025
DESCRIPTION:Don’t miss the fourth annual California Climate Policy Summit on Tuesday\, April 22\, 2025\, in Sacramento! This is your chance to join forces with state decision-makers\, elected officials\, climate activists\, environmental justice champions\, business innovators\, scientists\, and policy experts to drive forward science-based climate action. \nGet inspired by the bold initiatives of climate leaders working to fast-track the phase-out of fossil fuels\, boost carbon drawdown\, and build a resilient\, clean energy future for all. Dive into dynamic conversations about the latest legislative and regulatory battles unfolding in Sacramento. Plus\, connect with the trailblazers shaping the future of climate policy across the public\, private\, and nonprofit sectors. \nLook for 350 Contra Costa Action members there. We’re looking forward to it. See why we’re going. \nSpace is limited—registration is required!
URL:https://350contracostaaction.org/event/california-climate-policy-summit-2025/
LOCATION:Sheraton Grand Hotel Sacramento\, 1230 J St\, Sacramento\, CA\, 95814\, United States
CATEGORIES:Upcoming Events
ORGANIZER;CN="The Climate Center":MAILTO:mailto:info@theclimatecenter.org
END:VEVENT
END:VCALENDAR